BEGIN:VCALENDAR
VERSION:2.0
PRODID:-//COUTERNON ENSEMBLE - ECPv4.8.1//NONSGML v1.0//EN
CALSCALE:GREGORIAN
METHOD:PUBLISH
X-WR-CALNAME:COUTERNON ENSEMBLE
X-ORIGINAL-URL:https://couternonensemble.fr
X-WR-CALDESC:Évènements pour COUTERNON ENSEMBLE
BEGIN:VEVENT
DTSTART;TZID=Europe/Paris:20250627T183000
DTEND;TZID=Europe/Paris:20250627T200000
DTSTAMP:20260422T212516
CREATED:20250615T102802Z
LAST-MODIFIED:20250615T103112Z
UID:2680-1751049000-1751054400@couternonensemble.fr
SUMMARY:assemblée générale 2025
DESCRIPTION:l’Assemblée Générale de Couternon Ensemble aura lieu \n \nle vendredi 27 juin 2025 à 18 h 30 dans la salle du Mille Clubs. \n \nCette assemblée concerne tous les adhérents de Couternon Ensemble\n \nLa réunion se terminera par le pot de l’amitié et pour les adhérents et leur famille\, d’un repas pris en commun.\n\n  \n
URL:https://couternonensemble.fr/agenda/assemblee-generale-2025/
LOCATION:mille-clubs\, mille clubs\, couternon\, 21560\, France
ATTACH;FMTTYPE=image/jpeg:https://couternonensemble.fr/wp-content/uploads/2024/07/le-bureau-scaled.jpg
END:VEVENT
END:VCALENDAR