BEGIN:VCALENDAR
VERSION:2.0
PRODID:-//COUTERNON ENSEMBLE - ECPv4.8.1//NONSGML v1.0//EN
CALSCALE:GREGORIAN
METHOD:PUBLISH
X-WR-CALNAME:COUTERNON ENSEMBLE
X-ORIGINAL-URL:https://couternonensemble.fr
X-WR-CALDESC:Évènements pour COUTERNON ENSEMBLE
BEGIN:VEVENT
DTSTART;TZID=Europe/Paris:20260620T190000
DTEND;TZID=Europe/Paris:20260621T020000
DTSTAMP:20260422T140449
CREATED:20260307T143133Z
LAST-MODIFIED:20260307T143256Z
UID:2782-1781982000-1782007200@couternonensemble.fr
SUMMARY:fête de la musique
DESCRIPTION:en partenariat avec d’autres associations de Couternon venez vivre la fête de la musique \ndétails à venir \n
URL:https://couternonensemble.fr/agenda/fete-de-la-musique/
LOCATION:salle polyvalente\, salle polyvalente\, couternon\, 21560\, France
ATTACH;FMTTYPE=image/jpeg:https://couternonensemble.fr/wp-content/uploads/2026/03/musique.jpg
END:VEVENT
END:VCALENDAR