BEGIN:VCALENDAR
VERSION:2.0
PRODID:-//COUTERNON ENSEMBLE - ECPv4.8.1//NONSGML v1.0//EN
CALSCALE:GREGORIAN
METHOD:PUBLISH
X-WR-CALNAME:COUTERNON ENSEMBLE
X-ORIGINAL-URL:https://couternonensemble.fr
X-WR-CALDESC:Évènements pour COUTERNON ENSEMBLE
BEGIN:VEVENT
DTSTART;TZID=Europe/Paris:20260315T080000
DTEND;TZID=Europe/Paris:20260315T170000
DTSTAMP:20260422T153450
CREATED:20250902T103608Z
LAST-MODIFIED:20260117T142959Z
UID:2729-1773561600-1773594000@couternonensemble.fr
SUMMARY:vide grenier
DESCRIPTION:Retenez la date\, les détails ci dessous \n  \n
URL:https://couternonensemble.fr/agenda/vide-grenier-5/
LOCATION:salle polyvalente\, salle polyvalente\, couternon\, 21560\, France
ATTACH;FMTTYPE=image/jpeg:https://couternonensemble.fr/wp-content/uploads/2025/09/FB_IMG_17107455330787288.jpg
END:VEVENT
END:VCALENDAR